BEGIN:VCALENDAR
VERSION:2.0
PRODID:icalendar-ruby
CALSCALE:GREGORIAN
BEGIN:VEVENT
DTSTAMP:20260419T194220Z
UID:9b238a2e-7866-42d0-92ca-247778edeccf
DTSTART:20251024T100000
DTEND:20251024T180000
DESCRIPTION:
LOCATION:Космодамианская наб. 2
ORGANIZER:mailto:conference@vedomosti.ru
SUMMARY:Медиабизнес
URL:http://events.vedomosti.ru/events/media_25
BEGIN:VALARM
ACTION:DISPLAY
TRIGGER:-P1D
DESCRIPTION:Завтра\, в 10:00. Медиабизнес
END:VALARM
END:VEVENT
END:VCALENDAR
