BEGIN:VCALENDAR
VERSION:2.0
PRODID:icalendar-ruby
CALSCALE:GREGORIAN
BEGIN:VEVENT
DTSTAMP:20260422T050419Z
UID:8ecd74bc-8f6c-4be4-81b3-6ee41b1910e3
DTSTART:20121114T124800
DTEND:20121114T124900
DESCRIPTION:
LOCATION:1 Boulevard de la Croisette\, 06400 Cannes\, Франция
ORGANIZER:mailto:conference@vedomosti.ru
SUMMARY:Какой торговый центр нужен городу
URL:http://events.vedomosti.ru/events/mapic
BEGIN:VALARM
ACTION:DISPLAY
TRIGGER:-P1D
DESCRIPTION:Завтра\, в 12:48. Какой торговый центр
  нужен городу
END:VALARM
END:VEVENT
END:VCALENDAR
