BEGIN:VCALENDAR
VERSION:2.0
PRODID:icalendar-ruby
CALSCALE:GREGORIAN
BEGIN:VEVENT
DTSTAMP:20260426T004320Z
UID:331fbcbc-4f1e-46c6-ae74-984183f8e80b
DTSTART:20160628T090000
DTEND:20160628T180000
DESCRIPTION:
LOCATION:Саввинская набережная\, 12\, стр. 10г
ORGANIZER:mailto:conference@vedomosti.ru
SUMMARY:Менеджмент-форум
URL:http://events.vedomosti.ru/events/management_forum2016
BEGIN:VALARM
ACTION:DISPLAY
TRIGGER:-P1D
DESCRIPTION:Завтра\, в 09:00. Менеджмент-форум
END:VALARM
END:VEVENT
END:VCALENDAR
