BEGIN:VCALENDAR
VERSION:2.0
PRODID:icalendar-ruby
CALSCALE:GREGORIAN
BEGIN:VEVENT
DTSTAMP:20260421T023856Z
UID:6c6cadb3-44cb-42db-b2fb-a2bf4a6e11eb
DTSTART:20221209T070000
DTEND:20221209T181500
DESCRIPTION:
LOCATION:улица Петровка\, 11
ORGANIZER:mailto:conference@vedomosti.ru
SUMMARY:Лучшие судебные практики 2022
URL:http://events.vedomosti.ru/events/lsp22
BEGIN:VALARM
ACTION:DISPLAY
TRIGGER:-P1D
DESCRIPTION:Завтра\, в 07:00. Лучшие судебные прак
 тики 2022
END:VALARM
END:VEVENT
END:VCALENDAR
