BEGIN:VCALENDAR
VERSION:2.0
PRODID:icalendar-ruby
CALSCALE:GREGORIAN
BEGIN:VEVENT
DTSTAMP:20260421T045043Z
UID:d862aa0f-59c3-4925-a817-30ae4f44e16b
DTSTART:20260624T000000
DTEND:20260624T180000
DESCRIPTION:
LOCATION:Конюшенная пл.\, 2г
ORGANIZER:mailto:conference@vedomosti.ru
SUMMARY:Мифы и реальность в мире юриста
URL:http://events.vedomosti.ru/events/law26
BEGIN:VALARM
ACTION:DISPLAY
TRIGGER:-P1D
DESCRIPTION:Завтра\, в 00:00. Мифы и реальность в м
 ире юриста
END:VALARM
END:VEVENT
END:VCALENDAR
