BEGIN:VCALENDAR
VERSION:2.0
PRODID:icalendar-ruby
CALSCALE:GREGORIAN
BEGIN:VEVENT
DTSTAMP:20260423T004430Z
UID:462f6893-95c5-4ee8-91cf-f0ba7b5ec290
DTSTART:20070323T201300
DTEND:20070323T201300
DESCRIPTION:
LOCATION:ул. Тверская\, 26
ORGANIZER:mailto:conference@vedomosti.ru
SUMMARY:Кредитный портфель
URL:http://events.vedomosti.ru/events/kredit7
BEGIN:VALARM
ACTION:DISPLAY
TRIGGER:-P1D
DESCRIPTION:Завтра\, в 20:13. Кредитный портфель
END:VALARM
END:VEVENT
END:VCALENDAR
