BEGIN:VCALENDAR
VERSION:2.0
PRODID:icalendar-ruby
CALSCALE:GREGORIAN
BEGIN:VEVENT
DTSTAMP:20260422T165433Z
UID:6bc7eae3-6901-467e-8225-135112547f85
DTSTART:20240606T090000
DTEND:20240606T200000
DESCRIPTION:
LOCATION:Петербургское шоссе\, д. 64/1\, павильо
 н F\, стенд «Ведомости»
ORGANIZER:mailto:conference@vedomosti.ru
SUMMARY:Дети под защитой
URL:http://events.vedomosti.ru/events/kids
BEGIN:VALARM
ACTION:DISPLAY
TRIGGER:-P1D
DESCRIPTION:Завтра\, в 09:00. Дети под защитой
END:VALARM
END:VEVENT
END:VCALENDAR
