BEGIN:VCALENDAR
VERSION:2.0
PRODID:icalendar-ruby
CALSCALE:GREGORIAN
BEGIN:VEVENT
DTSTAMP:20260426T033225Z
UID:643e298a-137d-4318-bd21-b13df02d765e
DTSTART:20111123T162800
DTEND:20111124T162800
DESCRIPTION:
LOCATION:ул. Тверская\, д. 3
ORGANIZER:mailto:conference@vedomosti.ru
SUMMARY:Корпоративные финансы
URL:http://events.vedomosti.ru/events/kffr11
BEGIN:VALARM
ACTION:DISPLAY
TRIGGER:-P1D
DESCRIPTION:Завтра\, в 16:28. Корпоративные финан
 сы
END:VALARM
END:VEVENT
END:VCALENDAR
