BEGIN:VCALENDAR
VERSION:2.0
PRODID:icalendar-ruby
CALSCALE:GREGORIAN
BEGIN:VEVENT
DTSTAMP:20260422T204336Z
UID:5cd77d6b-917d-4329-aa12-d92e2b951057
DTSTART:20090422T104700
DTEND:20090422T104700
DESCRIPTION:
LOCATION:ул. Тверская\, д. 3
ORGANIZER:mailto:conference@vedomosti.ru
SUMMARY:Клуб финансовых директоров
URL:http://events.vedomosti.ru/events/kfd39
BEGIN:VALARM
ACTION:DISPLAY
TRIGGER:-P1D
DESCRIPTION:Завтра\, в 10:47. Клуб финансовых дире
 кторов
END:VALARM
END:VEVENT
END:VCALENDAR
