BEGIN:VCALENDAR
VERSION:2.0
PRODID:icalendar-ruby
CALSCALE:GREGORIAN
BEGIN:VEVENT
DTSTAMP:20260422T134819Z
UID:e93950d1-cb92-4a56-ab98-2e866add092f
DTSTART:20261001T000000
DTEND:20261001T000000
DESCRIPTION:
LOCATION:Выставочная улица\, 1 (Республика Тат
 арстан)
ORGANIZER:mailto:conference@vedomosti.ru
SUMMARY:Kazan Digital Week
URL:http://events.vedomosti.ru/events/kazan26
BEGIN:VALARM
ACTION:DISPLAY
TRIGGER:-P1D
DESCRIPTION:Завтра\, в 00:00. Kazan Digital Week
END:VALARM
END:VEVENT
END:VCALENDAR
