BEGIN:VCALENDAR
VERSION:2.0
PRODID:icalendar-ruby
CALSCALE:GREGORIAN
BEGIN:VEVENT
DTSTAMP:20260422T232122Z
UID:89188988-4fe2-4c66-801e-2bf2d7ae8d35
DTSTART:20070418T220300
DTEND:20070418T220400
DESCRIPTION:
LOCATION:ул. Неглинная\, д.4
ORGANIZER:mailto:conference@vedomosti.ru
SUMMARY:Ипотека в России
URL:http://events.vedomosti.ru/events/ipotek7
BEGIN:VALARM
ACTION:DISPLAY
TRIGGER:-P1D
DESCRIPTION:Завтра\, в 22:03. Ипотека в России
END:VALARM
END:VEVENT
END:VCALENDAR
