BEGIN:VCALENDAR
VERSION:2.0
PRODID:icalendar-ruby
CALSCALE:GREGORIAN
BEGIN:VEVENT
DTSTAMP:20260426T033218Z
UID:195a8ad2-608e-4103-9310-c52ae393c502
DTSTART:20091125T115200
DTEND:20091125T115200
DESCRIPTION:
LOCATION:ул. Тверская\, д. 3
ORGANIZER:mailto:conference@vedomosti.ru
SUMMARY:Рынки капитала
URL:http://events.vedomosti.ru/events/ipo9
BEGIN:VALARM
ACTION:DISPLAY
TRIGGER:-P1D
DESCRIPTION:Завтра\, в 11:52. Рынки капитала
END:VALARM
END:VEVENT
END:VCALENDAR
