BEGIN:VCALENDAR
VERSION:2.0
PRODID:icalendar-ruby
CALSCALE:GREGORIAN
BEGIN:VEVENT
DTSTAMP:20260421T075030Z
UID:f0720087-811c-4494-a222-1489c1bb79f9
DTSTART:20111004T145500
DTEND:20111004T145600
DESCRIPTION:
LOCATION:ул. Неглинная\, д.4
ORGANIZER:mailto:conference@vedomosti.ru
SUMMARY:Привлечение инвестиций в инфраструк
 туру
URL:http://events.vedomosti.ru/events/investments
BEGIN:VALARM
ACTION:DISPLAY
TRIGGER:-P1D
DESCRIPTION:Завтра\, в 14:55. Привлечение инвести
 ций в инфраструктуру
END:VALARM
END:VEVENT
END:VCALENDAR
