BEGIN:VCALENDAR
VERSION:2.0
PRODID:icalendar-ruby
CALSCALE:GREGORIAN
BEGIN:VEVENT
DTSTAMP:20260419T194320Z
UID:118623b2-f9be-43d5-9f8c-013474d8f359
DTSTART:20261212T000000
DTEND:20261212T180000
DESCRIPTION:
LOCATION:Космодамианская наб.\, 52\, стр. 6
ORGANIZER:mailto:conference@vedomosti.ru
SUMMARY:Инвестиции 2027
URL:http://events.vedomosti.ru/events/invest26
BEGIN:VALARM
ACTION:DISPLAY
TRIGGER:-P1D
DESCRIPTION:Завтра\, в 00:00. Инвестиции 2027
END:VALARM
END:VEVENT
END:VCALENDAR
