BEGIN:VCALENDAR
VERSION:2.0
PRODID:icalendar-ruby
CALSCALE:GREGORIAN
BEGIN:VEVENT
DTSTAMP:20260424T180336Z
UID:14b507c8-7a06-4250-b8e2-243979d4f8af
DTSTART:20151126T090000
DTEND:20151126T180000
DESCRIPTION:
LOCATION:ул. Тверская\, д. 3
ORGANIZER:mailto:conference@vedomosti.ru
SUMMARY:Инвестиции семейного капитала
URL:http://events.vedomosti.ru/events/inv_capit
BEGIN:VALARM
ACTION:DISPLAY
TRIGGER:-P1D
DESCRIPTION:Завтра\, в 09:00. Инвестиции семейног
 о капитала
END:VALARM
END:VEVENT
END:VCALENDAR
