BEGIN:VCALENDAR
VERSION:2.0
PRODID:icalendar-ruby
CALSCALE:GREGORIAN
BEGIN:VEVENT
DTSTAMP:20260422T202318Z
UID:3c158102-c66a-4185-9c07-4dcb639e5110
DTSTART:20091125T115100
DTEND:20091125T115100
DESCRIPTION:
LOCATION:ул. Тверская\, д. 3
ORGANIZER:mailto:conference@vedomosti.ru
SUMMARY:Страховой рынок
URL:http://events.vedomosti.ru/events/insurance_market9
BEGIN:VALARM
ACTION:DISPLAY
TRIGGER:-P1D
DESCRIPTION:Завтра\, в 11:51. Страховой рынок
END:VALARM
END:VEVENT
END:VCALENDAR
