BEGIN:VCALENDAR
VERSION:2.0
PRODID:icalendar-ruby
CALSCALE:GREGORIAN
BEGIN:VEVENT
DTSTAMP:20260422T175053Z
UID:058f2361-4cf5-4c34-b4ad-de169b63a8db
DTSTART:20081009T131000
DTEND:20081009T131000
DESCRIPTION:
LOCATION:ул. Тверская\, 26
ORGANIZER:mailto:conference@vedomosti.ru
SUMMARY:Страховой рынок
URL:http://events.vedomosti.ru/events/insurance_market8
BEGIN:VALARM
ACTION:DISPLAY
TRIGGER:-P1D
DESCRIPTION:Завтра\, в 13:10. Страховой рынок
END:VALARM
END:VEVENT
END:VCALENDAR
