BEGIN:VCALENDAR
VERSION:2.0
PRODID:icalendar-ruby
CALSCALE:GREGORIAN
BEGIN:VEVENT
DTSTAMP:20260422T214548Z
UID:d5581a76-3738-4b96-b2b9-884ada4dd3d0
DTSTART:20101124T112600
DTEND:20101124T112600
DESCRIPTION:
LOCATION:ул. Тверская\, д. 3
ORGANIZER:mailto:conference@vedomosti.ru
SUMMARY:Страховой рынок
URL:http://events.vedomosti.ru/events/insurance_market10
BEGIN:VALARM
ACTION:DISPLAY
TRIGGER:-P1D
DESCRIPTION:Завтра\, в 11:26. Страховой рынок
END:VALARM
END:VEVENT
END:VCALENDAR
