BEGIN:VCALENDAR
VERSION:2.0
PRODID:icalendar-ruby
CALSCALE:GREGORIAN
BEGIN:VEVENT
DTSTAMP:20260422T215418Z
UID:ae958187-be4a-4a18-a96e-39c1064a0fac
DTSTART:20151127T090000
DTEND:20151127T180000
DESCRIPTION:
LOCATION:ул. Тверская\, д. 3
ORGANIZER:mailto:conference@vedomosti.ru
SUMMARY:Страховой бизнес в России
URL:http://events.vedomosti.ru/events/insurance_ffr
BEGIN:VALARM
ACTION:DISPLAY
TRIGGER:-P1D
DESCRIPTION:Завтра\, в 09:00. Страховой бизнес в Р
 оссии
END:VALARM
END:VEVENT
END:VCALENDAR
