BEGIN:VCALENDAR
VERSION:2.0
PRODID:icalendar-ruby
CALSCALE:GREGORIAN
BEGIN:VEVENT
DTSTAMP:20260422T191034Z
UID:07e764e8-f4f8-4696-ba37-caf610ad0ca8
DTSTART:20070919T230700
DTEND:20070919T230700
DESCRIPTION:
LOCATION:ул. Балчуг\, 1
ORGANIZER:mailto:conference@vedomosti.ru
SUMMARY:Страховой рынок
URL:http://events.vedomosti.ru/events/insurance7
BEGIN:VALARM
ACTION:DISPLAY
TRIGGER:-P1D
DESCRIPTION:Завтра\, в 23:07. Страховой рынок
END:VALARM
END:VEVENT
END:VCALENDAR
