BEGIN:VCALENDAR
VERSION:2.0
PRODID:icalendar-ruby
CALSCALE:GREGORIAN
BEGIN:VEVENT
DTSTAMP:20260424T020136Z
UID:b88dfe13-56e4-4bd8-8231-4e1ca6068093
DTSTART:20240228T090000
DTEND:20240228T160000
DESCRIPTION:
LOCATION:
ORGANIZER:mailto:conference@vedomosti.ru
SUMMARY:Инфраструктура для страны 2024: новые 
 стройки\, новые вызовы
URL:http://events.vedomosti.ru/events/infra
BEGIN:VALARM
ACTION:DISPLAY
TRIGGER:-P1D
DESCRIPTION:Завтра\, в 09:00. Инфраструктура для с
 траны 2024: новые стройки\, новые вызовы
END:VALARM
END:VEVENT
END:VCALENDAR
