BEGIN:VCALENDAR
VERSION:2.0
PRODID:icalendar-ruby
CALSCALE:GREGORIAN
BEGIN:VEVENT
DTSTAMP:20260421T171930Z
UID:83de28c8-05bb-4ca4-93f5-90d0c77bf492
DTSTART:20080520T171800
DTEND:20080520T171700
DESCRIPTION:
LOCATION:ул. Балчуг\, 1
ORGANIZER:mailto:conference@vedomosti.ru
SUMMARY:Информационная безопасность бизнес
 а
URL:http://events.vedomosti.ru/events/infobez8
BEGIN:VALARM
ACTION:DISPLAY
TRIGGER:-P1D
DESCRIPTION:Завтра\, в 17:18. Информационная безо
 пасность бизнеса
END:VALARM
END:VEVENT
END:VCALENDAR
