BEGIN:VCALENDAR
VERSION:2.0
PRODID:icalendar-ruby
CALSCALE:GREGORIAN
BEGIN:VEVENT
DTSTAMP:20260420T033230Z
UID:52599cab-82bc-4ce6-9b4c-5fb88b7d9f39
DTSTART:20261112T000000
DTEND:20261112T180000
DESCRIPTION:
LOCATION:Тверская улица\, 22
ORGANIZER:mailto:conference@vedomosti.ru
SUMMARY:Промышленность нового времени
URL:http://events.vedomosti.ru/events/industrialforum26
BEGIN:VALARM
ACTION:DISPLAY
TRIGGER:-P1D
DESCRIPTION:Завтра\, в 00:00. Промышленность ново
 го времени
END:VALARM
END:VEVENT
END:VCALENDAR
