BEGIN:VCALENDAR
VERSION:2.0
PRODID:icalendar-ruby
CALSCALE:GREGORIAN
BEGIN:VEVENT
DTSTAMP:20260423T013042Z
UID:98ffb453-6aed-4913-9349-c380d0e50edd
DTSTART:20121128T181700
DTEND:20121129T181700
DESCRIPTION:
LOCATION:ул. Тверская\, д. 3
ORGANIZER:mailto:conference@vedomosti.ru
SUMMARY:Развитие ипотеки в России:
URL:http://events.vedomosti.ru/events/iffr12
BEGIN:VALARM
ACTION:DISPLAY
TRIGGER:-P1D
DESCRIPTION:Завтра\, в 18:17. Развитие ипотеки в Р
 оссии:
END:VALARM
END:VEVENT
END:VCALENDAR
