BEGIN:VCALENDAR
VERSION:2.0
PRODID:icalendar-ruby
CALSCALE:GREGORIAN
BEGIN:VEVENT
DTSTAMP:20260423T013042Z
UID:0d6d5a64-47f4-48a8-870f-cc3559a8e19d
DTSTART:20111123T163600
DTEND:20111124T163600
DESCRIPTION:
LOCATION:ул. Тверская\, д. 3
ORGANIZER:mailto:conference@vedomosti.ru
SUMMARY:Развитие ипотеки в России
URL:http://events.vedomosti.ru/events/iffr11
BEGIN:VALARM
ACTION:DISPLAY
TRIGGER:-P1D
DESCRIPTION:Завтра\, в 16:36. Развитие ипотеки в Р
 оссии
END:VALARM
END:VEVENT
END:VCALENDAR
