BEGIN:VCALENDAR
VERSION:2.0
PRODID:icalendar-ruby
CALSCALE:GREGORIAN
BEGIN:VEVENT
DTSTAMP:20260421T125510Z
UID:96aa755a-a806-419e-b9d2-cb05279b3378
DTSTART:20111101T100000
DTEND:20111101T190000
DESCRIPTION:
LOCATION:ул. Тверская\, д. 3
ORGANIZER:mailto:conference@vedomosti.ru
SUMMARY:Информационная безопасность бизнес
 а
URL:http://events.vedomosti.ru/events/ibb11
BEGIN:VALARM
ACTION:DISPLAY
TRIGGER:-P1D
DESCRIPTION:Завтра\, в 10:00. Информационная безо
 пасность бизнеса
END:VALARM
END:VEVENT
END:VCALENDAR
