BEGIN:VCALENDAR
VERSION:2.0
PRODID:icalendar-ruby
CALSCALE:GREGORIAN
BEGIN:VEVENT
DTSTAMP:20260425T113623Z
UID:790e3ed1-962c-477a-85b0-879e22a62124
DTSTART:20101015T093900
DTEND:20101015T183900
DESCRIPTION:
LOCATION:ул. Тверская\, 26
ORGANIZER:mailto:conference@vedomosti.ru
SUMMARY:Роль хайтека в будущем России
URL:http://events.vedomosti.ru/events/ht_10
BEGIN:VALARM
ACTION:DISPLAY
TRIGGER:-P1D
DESCRIPTION:Завтра\, в 09:39. Роль хайтека в будущ
 ем России
END:VALARM
END:VEVENT
END:VCALENDAR
