BEGIN:VCALENDAR
VERSION:2.0
PRODID:icalendar-ruby
CALSCALE:GREGORIAN
BEGIN:VEVENT
DTSTAMP:20260422T190204Z
UID:f403a505-77c4-4154-ba0b-277481ce3a2e
DTSTART:20181113T090000
DTEND:20181113T190200
DESCRIPTION:
LOCATION:ул. Балчуг\, 1
ORGANIZER:mailto:conference@vedomosti.ru
SUMMARY:HR-Форум
URL:http://events.vedomosti.ru/events/hrzima18
BEGIN:VALARM
ACTION:DISPLAY
TRIGGER:-P1D
DESCRIPTION:Завтра\, в 09:00. HR-Форум
END:VALARM
END:VEVENT
END:VCALENDAR
