BEGIN:VCALENDAR
VERSION:2.0
PRODID:icalendar-ruby
CALSCALE:GREGORIAN
BEGIN:VEVENT
DTSTAMP:20260419T211936Z
UID:ea7a154e-06b5-43af-9418-e3d0c8483ffd
DTSTART:20111201T140300
DTEND:20111201T140300
DESCRIPTION:
LOCATION:ул. Неглинная\, д.4
ORGANIZER:mailto:conference@vedomosti.ru
SUMMARY:HR-Форум
URL:http://events.vedomosti.ru/events/hrzima11
BEGIN:VALARM
ACTION:DISPLAY
TRIGGER:-P1D
DESCRIPTION:Завтра\, в 14:03. HR-Форум
END:VALARM
END:VEVENT
END:VCALENDAR
