BEGIN:VCALENDAR
VERSION:2.0
PRODID:icalendar-ruby
CALSCALE:GREGORIAN
BEGIN:VEVENT
DTSTAMP:20260422T213536Z
UID:26b80e77-dc75-43f3-b426-795f1016d6fb
DTSTART:20190917T093000
DTEND:20190917T143000
DESCRIPTION:
LOCATION:ТДЦ Новинский\, Новинский бульвар\, 31
ORGANIZER:mailto:conference@vedomosti.ru
SUMMARY:Smart HR: цифровые технологии в управлен
 ии персоналом
URL:http://events.vedomosti.ru/events/hrsmart19
BEGIN:VALARM
ACTION:DISPLAY
TRIGGER:-P1D
DESCRIPTION:Завтра\, в 09:30. Smart HR: цифровые техно
 логии в управлении персоналом
END:VALARM
END:VEVENT
END:VCALENDAR
