BEGIN:VCALENDAR
VERSION:2.0
PRODID:icalendar-ruby
CALSCALE:GREGORIAN
BEGIN:VEVENT
DTSTAMP:20260422T230029Z
UID:d5ab05b3-6452-436d-8c04-10ef192ef710
DTSTART:20170920T090000
DTEND:20170920T180000
DESCRIPTION:
LOCATION:ул. Тверская\, 26
ORGANIZER:mailto:conference@vedomosti.ru
SUMMARY:SMART HR: цифровые технологии в управлен
 ии персоналом
URL:http://events.vedomosti.ru/events/hrsmart17
BEGIN:VALARM
ACTION:DISPLAY
TRIGGER:-P1D
DESCRIPTION:Завтра\, в 09:00. SMART HR: цифровые техно
 логии в управлении персоналом
END:VALARM
END:VEVENT
END:VCALENDAR
