BEGIN:VCALENDAR
VERSION:2.0
PRODID:icalendar-ruby
CALSCALE:GREGORIAN
BEGIN:VEVENT
DTSTAMP:20260419T131312Z
UID:0220ff7a-ea5d-4f80-8e64-54c93c51cdb6
DTSTART:20200401T090000
DTEND:20200602T190000
DESCRIPTION:
LOCATION:
ORGANIZER:mailto:conference@vedomosti.ru
SUMMARY:HR Alert! Форс мажор. Что делать?
URL:http://events.vedomosti.ru/events/hronline
BEGIN:VALARM
ACTION:DISPLAY
TRIGGER:-P1D
DESCRIPTION:Завтра\, в 09:00. HR Alert! Форс мажор. Что 
 делать?
END:VALARM
END:VEVENT
END:VCALENDAR
