BEGIN:VCALENDAR
VERSION:2.0
PRODID:icalendar-ruby
CALSCALE:GREGORIAN
BEGIN:VEVENT
DTSTAMP:20260425T220811Z
UID:c87da09d-2b08-4cac-a256-8503e7f2841d
DTSTART:20160628T093000
DTEND:20160628T200000
DESCRIPTION:
LOCATION:Саввинская набережная\, 12\, стр. 10г
ORGANIZER:mailto:conference@vedomosti.ru
SUMMARY:HR-Форум 
URL:http://events.vedomosti.ru/events/hrleto16
BEGIN:VALARM
ACTION:DISPLAY
TRIGGER:-P1D
DESCRIPTION:Завтра\, в 09:30. HR-Форум 
END:VALARM
END:VEVENT
END:VCALENDAR
