BEGIN:VCALENDAR
VERSION:2.0
PRODID:icalendar-ruby
CALSCALE:GREGORIAN
BEGIN:VEVENT
DTSTAMP:20260421T123019Z
UID:2cce6d0e-c01c-4658-af1e-6918a751b93b
DTSTART:20190305T090000
DTEND:20190305T190000
DESCRIPTION:
LOCATION:улица Петровка\, 11
ORGANIZER:mailto:conference@vedomosti.ru
SUMMARY:HR Legal
URL:http://events.vedomosti.ru/events/hrlegal_19
BEGIN:VALARM
ACTION:DISPLAY
TRIGGER:-P1D
DESCRIPTION:Завтра\, в 09:00. HR Legal
END:VALARM
END:VEVENT
END:VCALENDAR
