BEGIN:VCALENDAR
VERSION:2.0
PRODID:icalendar-ruby
CALSCALE:GREGORIAN
BEGIN:VEVENT
DTSTAMP:20260420T200233Z
UID:d099a2c0-22ef-4772-8675-124b42551831
DTSTART:20180221T090000
DTEND:20180221T180000
DESCRIPTION:
LOCATION:улица Петровка\, 11
ORGANIZER:mailto:conference@vedomosti.ru
SUMMARY:HR Legal
URL:http://events.vedomosti.ru/events/hrlegal_18
BEGIN:VALARM
ACTION:DISPLAY
TRIGGER:-P1D
DESCRIPTION:Завтра\, в 09:00. HR Legal
END:VALARM
END:VEVENT
END:VCALENDAR
