BEGIN:VCALENDAR
VERSION:2.0
PRODID:icalendar-ruby
CALSCALE:GREGORIAN
BEGIN:VEVENT
DTSTAMP:20260419T194226Z
UID:f0eabe8d-23fd-442b-a772-ab62d16bc0d2
DTSTART:20261204T000000
DTEND:20261204T180000
DESCRIPTION:
LOCATION:Никольская улица\, 12
ORGANIZER:mailto:conference@vedomosti.ru
SUMMARY:Форум по управлению персоналом (HR-Фо
 рум)
URL:http://events.vedomosti.ru/events/hrforum_2026
BEGIN:VALARM
ACTION:DISPLAY
TRIGGER:-P1D
DESCRIPTION:Завтра\, в 00:00. Форум по управлению 
 персоналом (HR-Форум)
END:VALARM
END:VEVENT
END:VCALENDAR
