BEGIN:VCALENDAR
VERSION:2.0
PRODID:icalendar-ruby
CALSCALE:GREGORIAN
BEGIN:VEVENT
DTSTAMP:20260423T151201Z
UID:e0f40a2c-65e7-4bf2-8951-a7cecfef9292
DTSTART:20121022T140000
DTEND:20121022T140000
DESCRIPTION:
LOCATION:
ORGANIZER:mailto:conference@vedomosti.ru
SUMMARY:Графит – материал будущего:
URL:http://events.vedomosti.ru/events/grafit
BEGIN:VALARM
ACTION:DISPLAY
TRIGGER:-P1D
DESCRIPTION:Завтра\, в 14:00. Графит – материал бу
 дущего:
END:VALARM
END:VEVENT
END:VCALENDAR
