BEGIN:VCALENDAR
VERSION:2.0
PRODID:icalendar-ruby
CALSCALE:GREGORIAN
BEGIN:VEVENT
DTSTAMP:20260422T134919Z
UID:694b7088-cd67-45a7-a23a-8d13209e48ed
DTSTART:20260902T000000
DTEND:20260902T180000
DESCRIPTION:
LOCATION:ул. Корабельная Набережная\, 10
ORGANIZER:mailto:conference@vedomosti.ru
SUMMARY:Восточный экономический форум
URL:http://events.vedomosti.ru/events/forumvostok26
BEGIN:VALARM
ACTION:DISPLAY
TRIGGER:-P1D
DESCRIPTION:Завтра\, в 00:00. Восточный экономиче
 ский форум
END:VALARM
END:VEVENT
END:VCALENDAR
