BEGIN:VCALENDAR
VERSION:2.0
PRODID:icalendar-ruby
CALSCALE:GREGORIAN
BEGIN:VEVENT
DTSTAMP:20260424T201805Z
UID:6cc1e70f-5da3-4c35-b49e-09ea95b2ea48
DTSTART:20150625T030000
DTEND:20150625T150000
DESCRIPTION:
LOCATION:ул. Довженко\, д. 1
ORGANIZER:mailto:conference@vedomosti.ru
SUMMARY:FocusForum
URL:http://events.vedomosti.ru/events/focusforum
BEGIN:VALARM
ACTION:DISPLAY
TRIGGER:-P1D
DESCRIPTION:Завтра\, в 03:00. FocusForum
END:VALARM
END:VEVENT
END:VCALENDAR
