BEGIN:VCALENDAR
VERSION:2.0
PRODID:icalendar-ruby
CALSCALE:GREGORIAN
BEGIN:VEVENT
DTSTAMP:20260421T182606Z
UID:9ffe5d11-4c44-4835-b1d2-e05332d2c408
DTSTART:20220616T123000
DTEND:20220616T133000
DESCRIPTION:
LOCATION:Петербургское шоссе\, д. 64/1\, павильо
 н F\, стенд «Ведомости»
ORGANIZER:mailto:conference@vedomosti.ru
SUMMARY:ФИНТЕХ 2022: шаг за горизонт
URL:http://events.vedomosti.ru/events/finpmef_22
BEGIN:VALARM
ACTION:DISPLAY
TRIGGER:-P1D
DESCRIPTION:Завтра\, в 12:30. ФИНТЕХ 2022: шаг за гор
 изонт
END:VALARM
END:VEVENT
END:VCALENDAR
