BEGIN:VCALENDAR
VERSION:2.0
PRODID:icalendar-ruby
CALSCALE:GREGORIAN
BEGIN:VEVENT
DTSTAMP:20260425T191230Z
UID:cf4b48e2-49d4-4c4a-bd34-6586e7e6b80e
DTSTART:20170425T090000
DTEND:20170425T170000
DESCRIPTION:
LOCATION:ул. Тверская\, д. 3
ORGANIZER:mailto:conference@vedomosti.ru
SUMMARY:Финтех и банкинг: симбиоз или против
 остояние?
URL:http://events.vedomosti.ru/events/fin2017
BEGIN:VALARM
ACTION:DISPLAY
TRIGGER:-P1D
DESCRIPTION:Завтра\, в 09:00. Финтех и банкинг: сим
 биоз или противостояние?
END:VALARM
END:VEVENT
END:VCALENDAR
