BEGIN:VCALENDAR
VERSION:2.0
PRODID:icalendar-ruby
CALSCALE:GREGORIAN
BEGIN:VEVENT
DTSTAMP:20260423T013042Z
UID:3d589642-9c67-4661-b894-4c854f15f6e5
DTSTART:20121128T172800
DTEND:20121129T172800
DESCRIPTION:
LOCATION:ул. Тверская\, д. 3
ORGANIZER:mailto:conference@vedomosti.ru
SUMMARY:Финансовый форум России
URL:http://events.vedomosti.ru/events/ffr12
BEGIN:VALARM
ACTION:DISPLAY
TRIGGER:-P1D
DESCRIPTION:Завтра\, в 17:28. Финансовый форум Рос
 сии
END:VALARM
END:VEVENT
END:VCALENDAR
