BEGIN:VCALENDAR
VERSION:2.0
PRODID:icalendar-ruby
CALSCALE:GREGORIAN
BEGIN:VEVENT
DTSTAMP:20260420T123807Z
UID:e98b98da-73c8-43c0-b0f5-4245c40d3efa
DTSTART:20190327T090000
DTEND:20190327T190000
DESCRIPTION:
LOCATION:улица Петровка\, 11
ORGANIZER:mailto:conference@vedomosti.ru
SUMMARY:РосФарма: на пути к технологическому
  лидерству
URL:http://events.vedomosti.ru/events/farma19
BEGIN:VALARM
ACTION:DISPLAY
TRIGGER:-P1D
DESCRIPTION:Завтра\, в 09:00. РосФарма: на пути к т
 ехнологическому лидерству
END:VALARM
END:VEVENT
END:VCALENDAR
