BEGIN:VCALENDAR
VERSION:2.0
PRODID:icalendar-ruby
CALSCALE:GREGORIAN
BEGIN:VEVENT
DTSTAMP:20260424T201805Z
UID:3fbb38a3-1804-4c91-a453-78db32e136fe
DTSTART:20100910T115700
DTEND:20100910T115800
DESCRIPTION:
LOCATION:ул. Тверская\, д. 3
ORGANIZER:mailto:conference@vedomosti.ru
SUMMARY:Форум по рекламе и маркетингу
URL:http://events.vedomosti.ru/events/event10
BEGIN:VALARM
ACTION:DISPLAY
TRIGGER:-P1D
DESCRIPTION:Завтра\, в 11:57. Форум по рекламе и ма
 ркетингу
END:VALARM
END:VEVENT
END:VCALENDAR
