BEGIN:VCALENDAR
VERSION:2.0
PRODID:icalendar-ruby
CALSCALE:GREGORIAN
BEGIN:VEVENT
DTSTAMP:20260425T161120Z
UID:c6ed10ac-2838-4c05-8a21-af1322120ffb
DTSTART:20240625T090000
DTEND:20240625T160000
DESCRIPTION:
LOCATION:Никольская улица\, 12
ORGANIZER:mailto:conference@vedomosti.ru
SUMMARY:Российская электроника: в ожидании м
 ассового потребителя
URL:http://events.vedomosti.ru/events/electronics24
BEGIN:VALARM
ACTION:DISPLAY
TRIGGER:-P1D
DESCRIPTION:Завтра\, в 09:00. Российская электрон
 ика: в ожидании массового потребителя
END:VALARM
END:VEVENT
END:VCALENDAR
