BEGIN:VCALENDAR
VERSION:2.0
PRODID:icalendar-ruby
CALSCALE:GREGORIAN
BEGIN:VEVENT
DTSTAMP:20260421T233508Z
UID:14bddd66-0294-4e66-b7f5-11af71372d17
DTSTART:20220405T090000
DTEND:20220405T180000
DESCRIPTION:
LOCATION:22 Tverskaya street
ORGANIZER:mailto:conference@vedomosti.ru
SUMMARY:Российская энергетика: перезагрузка
  отрасли
URL:http://events.vedomosti.ru/events/electro22
BEGIN:VALARM
ACTION:DISPLAY
TRIGGER:-P1D
DESCRIPTION:Завтра\, в 09:00. Российская энергети
 ка: перезагрузка отрасли
END:VALARM
END:VEVENT
END:VCALENDAR
