BEGIN:VCALENDAR
VERSION:2.0
PRODID:icalendar-ruby
CALSCALE:GREGORIAN
BEGIN:VEVENT
DTSTAMP:20260424T231555Z
UID:3bce8591-0906-40c1-98fa-8be9dc23b654
DTSTART:20210324T090000
DTEND:20210324T190000
DESCRIPTION:
LOCATION:22 Tverskaya street
ORGANIZER:mailto:conference@vedomosti.ru
SUMMARY:Российская энергетика: как обеспечи
 ть баланс в новых условиях
URL:http://events.vedomosti.ru/events/electro21
BEGIN:VALARM
ACTION:DISPLAY
TRIGGER:-P1D
DESCRIPTION:Завтра\, в 09:00. Российская энергети
 ка: как обеспечить баланс в новых услови
 ях
END:VALARM
END:VEVENT
END:VCALENDAR
