BEGIN:VCALENDAR
VERSION:2.0
PRODID:icalendar-ruby
CALSCALE:GREGORIAN
BEGIN:VEVENT
DTSTAMP:20260422T005500Z
UID:e1c8e9d9-1c73-4f21-bb9d-30f72b2a1625
DTSTART:20120322T125000
DTEND:20120322T125000
DESCRIPTION:
LOCATION:ул. Тверская\, д. 3
ORGANIZER:mailto:conference@vedomosti.ru
SUMMARY:Российская энергетика
URL:http://events.vedomosti.ru/events/electro12
BEGIN:VALARM
ACTION:DISPLAY
TRIGGER:-P1D
DESCRIPTION:Завтра\, в 12:50. Российская энергети
 ка
END:VALARM
END:VEVENT
END:VCALENDAR
