BEGIN:VCALENDAR
VERSION:2.0
PRODID:icalendar-ruby
CALSCALE:GREGORIAN
BEGIN:VEVENT
DTSTAMP:20260421T125513Z
UID:73712385-6505-44a6-b3d1-4d29320058f8
DTSTART:20231220T093000
DTEND:20231220T120000
DESCRIPTION:
LOCATION:
ORGANIZER:mailto:conference@vedomosti.ru
SUMMARY:Будущее электромобилей: инновации\, 
 экология\, кадры
URL:http://events.vedomosti.ru/events/electric_car
BEGIN:VALARM
ACTION:DISPLAY
TRIGGER:-P1D
DESCRIPTION:Завтра\, в 09:30. Будущее электромоби
 лей: инновации\, экология\, кадры
END:VALARM
END:VEVENT
END:VCALENDAR
