BEGIN:VCALENDAR
VERSION:2.0
PRODID:icalendar-ruby
CALSCALE:GREGORIAN
BEGIN:VEVENT
DTSTAMP:20260423T214120Z
UID:fea257e7-ad95-445f-b722-b9f511db7b87
DTSTART:20241025T090000
DTEND:20241025T190000
DESCRIPTION:
LOCATION:Тверская улица\, 22
ORGANIZER:mailto:conference@vedomosti.ru
SUMMARY:ЭкоБаланс
URL:http://events.vedomosti.ru/events/eco_24
BEGIN:VALARM
ACTION:DISPLAY
TRIGGER:-P1D
DESCRIPTION:Завтра\, в 09:00. ЭкоБаланс
END:VALARM
END:VEVENT
END:VCALENDAR
